BEGIN:VCALENDAR
VERSION:2.0
PRODID:-//St. Clement&#039;s - ECPv3.9.3//NONSGML v1.0//EN
CALSCALE:GREGORIAN
METHOD:PUBLISH
X-WR-CALNAME:St. Clement&#039;s
X-ORIGINAL-URL:http://www.stclements.ie
X-WR-CALDESC:Events for St. Clement&#039;s
BEGIN:VEVENT
DTSTART;VALUE=DATE-TIME:20171211T080000
DTEND;VALUE=DATE-TIME:20171211T170000
DTSTAMP:20171105T224003
CREATED:20171019T115248
LAST-MODIFIED:20171019T115248
UID:1604-1512979200-1513011600@http://www.stclements.ie
SUMMARY:School Ethos Day
DESCRIPTION:
URL:http://www.stclements.ie/event/school-ethos-day-2
END:VEVENT
END:VCALENDAR