BEGIN:VCALENDAR
VERSION:2.0
PRODID:-//St. Clement&#039;s - ECPv3.9.3//NONSGML v1.0//EN
CALSCALE:GREGORIAN
METHOD:PUBLISH
X-WR-CALNAME:St. Clement&#039;s
X-ORIGINAL-URL:http://www.stclements.ie
X-WR-CALDESC:Events for St. Clement&#039;s
BEGIN:VEVENT
DTSTART;VALUE=DATE-TIME:20171208T080000
DTEND;VALUE=DATE-TIME:20171208T170000
DTSTAMP:20171105T223948
CREATED:20171019T115315
LAST-MODIFIED:20171019T115315
UID:1605-1512720000-1512752400@http://www.stclements.ie
SUMMARY:Holy Day,School Closed
DESCRIPTION:
URL:http://www.stclements.ie/event/holy-dayschool-closed
END:VEVENT
END:VCALENDAR