BEGIN:VCALENDAR
VERSION:2.0
PRODID:-//St. Clement&#039;s - ECPv3.9.3//NONSGML v1.0//EN
CALSCALE:GREGORIAN
METHOD:PUBLISH
X-WR-CALNAME:St. Clement&#039;s
X-ORIGINAL-URL:http://www.stclements.ie
X-WR-CALDESC:Events for St. Clement&#039;s
BEGIN:VEVENT
DTSTART;VALUE=DATE-TIME:20171003T193000
DTEND;VALUE=DATE-TIME:20171003T193000
DTSTAMP:20171105T223829
CREATED:20170926T215938
LAST-MODIFIED:20170926T215938
UID:1600-1507059000-1507059000@http://www.stclements.ie
SUMMARY:Parents Council AGM
DESCRIPTION:All parents/guardians welcome to attend
URL:http://www.stclements.ie/event/parents-council-agm
CATEGORIES:School
END:VEVENT
END:VCALENDAR