BEGIN:VCALENDAR
VERSION:2.0
PRODID:-//St. Clement&#039;s - ECPv3.9.3//NONSGML v1.0//EN
CALSCALE:GREGORIAN
METHOD:PUBLISH
X-WR-CALNAME:St. Clement&#039;s
X-ORIGINAL-URL:http://www.stclements.ie
X-WR-CALDESC:Events for St. Clement&#039;s
BEGIN:VEVENT
DTSTART;VALUE=DATE-TIME:20170927T190000
DTEND;VALUE=DATE-TIME:20170927T190000
DTSTAMP:20171105T223810
CREATED:20170908T105743
LAST-MODIFIED:20170908T105743
UID:1597-1506538800-1506538800@http://www.stclements.ie
SUMMARY:School Open Night
DESCRIPTION:
URL:http://www.stclements.ie/event/school-open-night
END:VEVENT
END:VCALENDAR